BEGIN:VCALENDAR
VERSION:2.0
PRODID:-//ChamberMaster//Event Calendar 2.0//EN
METHOD:PUBLISH
X-PUBLISHED-TTL:P3D
REFRESH-INTERVAL:P3D
CALSCALE:GREGORIAN
BEGIN:VEVENT
DTSTART:20201007T120000Z
DTEND:20201007T133000Z
X-MICROSOFT-CDO-ALLDAYEVENT:FALSE
SUMMARY:Wednesday Morning Networking
DESCRIPTION:Wednesday Morning Networking\n\n	How has your business changed since March? \n	What plans have you put in place to prepare for reopening? \n	How are you continuing to network and build business while waiting for YOUR business to return to "normal"? \n\n\n\nMany of us will conduct business in a whole new way\, and creating your own team of advocates is more important now than ever!
X-ALT-DESC;FMTTYPE=text/html:<span style="font-size: 26px\;"><b>Wednesday Morning Networking</b></span>\n<ul>\n	<li>How has your business changed since March?&nbsp\;</li>\n	<li>What plans have you put in place to prepare for reopening?&nbsp\;</li>\n	<li>How are you continuing to network and build business while waiting for YOUR business to return to &ldquo\;normal&rdquo\;?&nbsp\;</li>\n</ul>\n<br />\nMany of us will conduct business in a whole new way\, and creating your own team of advocates is more important now than ever!
LOCATION:ZOOM Meeting You will be provided with the ZOOM login information after you register for this FREE event
UID:e.3427.8035
SEQUENCE:3
DTSTAMP:20260422T031221Z
URL:https://members.greaterpasco.com/events/details/wednesday-morning-networking-8035
END:VEVENT

END:VCALENDAR
