BEGIN:VCALENDAR
VERSION:2.0
PRODID:-//ChamberMaster//Event Calendar 2.0//EN
METHOD:PUBLISH
X-PUBLISHED-TTL:P3D
REFRESH-INTERVAL:P3D
CALSCALE:GREGORIAN
BEGIN:VEVENT
DTSTART;VALUE=DATE:20260202
DTEND;VALUE=DATE:20260207
TRANSP:TRANSPARENT
X-MICROSOFT-CDO-ALLDAYEVENT:TRUE
SUMMARY:Uncover Your Competitor's SEO Secrets: Get Your Keyword Audit
DESCRIPTION:The Greater Pasco Chamber is excited to partner with Outplay Marketing to bring you an exclusive new member benefit! To support your growth\, the Chamber is fully covering the cost of a 16-week marketing program for our members. Space is limited secure your spot today to take advantage of this incredible opportunity!\n\n\n\nCompetition Keyword Audit Have you ever wondered why a specific competitor always seems to dominate the top search results? They likely have a targeted keyword strategy designed to capture your audience before they ever find your brand. My Competition Keyword Audit peels back the curtain\, showing you the Top 3 keywords a main competitor is using to win. Understanding their playbook is the first step to reclaiming your market share and beating them at their own game. This research is time-intensive and requires specialized tools\, so I am limiting this offer to 10 local businesses on a first-come\, first-served basis. Secure your audit today to see exactly how to pivot your strategy and win back those lost clicks.
X-ALT-DESC;FMTTYPE=text/html:<p style="text-align:center"><span style="font-size:16px"><strong>The Greater Pasco Chamber is excited to partner with Outplay Marketing to bring you an exclusive new member benefit! To support your growth\, the Chamber is fully covering the cost of a 16-week marketing program for our members. Space is limited&mdash\;secure your spot today to take advantage of this incredible opportunity!</strong></span></p>\n\n<p><br />\n<strong>Competition Keyword Audit</strong><span style="background-color:transparent\; color:rgb(0\, 0\, 0)\; font-family:arial\,sans-serif\; font-size:11pt"> Have you ever wondered why a specific competitor always seems to dominate the top search results? They likely have a targeted keyword strategy designed to capture your audience before they ever find your brand. My Competition Keyword Audit peels back the curtain\, showing you the Top 3 keywords a main competitor is using to win. Understanding their playbook is the first step to reclaiming your market share and beating them at their own game. This research is time-intensive and requires specialized tools\, so I am limiting this offer to </span><strong>10 local businesses</strong><span style="background-color:transparent\; color:rgb(0\, 0\, 0)\; font-family:arial\,sans-serif\; font-size:11pt"> on a first-come\, first-served basis. Secure your audit today to see exactly how to pivot your strategy and win back those lost clicks.</span></p>\n
LOCATION:
UID:e.3427.19823
SEQUENCE:3
DTSTAMP:20260425T160027Z
URL:https://members.greaterpasco.com/events/details/uncover-your-competitor-s-seo-secrets-get-your-keyword-audit-19823
END:VEVENT

END:VCALENDAR
