BEGIN:VCALENDAR
VERSION:2.0
PRODID:-//ChamberMaster//Event Calendar 2.0//EN
METHOD:PUBLISH
X-PUBLISHED-TTL:P3D
REFRESH-INTERVAL:P3D
CALSCALE:GREGORIAN
BEGIN:VEVENT
DTSTART:20250927T150000Z
DTEND:20250928T000000Z
X-MICROSOFT-CDO-ALLDAYEVENT:FALSE
SUMMARY:Tampa Bays ULTIMATE Food Truck Festival
DESCRIPTION:Tampa Bay's Ultimate Food Truck Festival is returning September 27th\, 2025! Saturday Hours: 11am-8pm Location: Tampa Premium Outlets Address: 2300 Grand Cypress Dr\, Lutz\, FL 33559 Entry: FREE Featuring 30+ Food Vendors with your favorite street foods & cuisines including BBQ\, Tacos\, Pizza\, Frozen Desserts\, Seafood & more! For more information\, contact Florida Penguin Productions at (727) 674-1464 or Brett@FloridaPenguinProductions.com
X-ALT-DESC;FMTTYPE=text/html:Tampa Bay&rsquo\;s Ultimate Food Truck Festival is returning September 27th\, 2025! Saturday Hours: 11am-8pm Location: Tampa Premium Outlets Address: 2300 Grand Cypress Dr\, Lutz\, FL 33559 Entry: FREE Featuring 30+ Food Vendors with your favorite street foods &amp\; cuisines including BBQ\, Tacos\, Pizza\, Frozen Desserts\, Seafood &amp\; more! For more information\, contact Florida Penguin Productions at (727) 674-1464 or Brett@FloridaPenguinProductions.com
LOCATION:Tampa Premium Outlets
UID:e.3427.16842
SEQUENCE:3
DTSTAMP:20260422T084202Z
URL:https://members.greaterpasco.com/events/details/tampa-bays-ultimate-food-truck-festival-09-27-2025-16842
END:VEVENT

END:VCALENDAR
