BEGIN:VCALENDAR
VERSION:2.0
PRODID:-//ChamberMaster//Event Calendar 2.0//EN
METHOD:PUBLISH
X-PUBLISHED-TTL:P3D
REFRESH-INTERVAL:P3D
CALSCALE:GREGORIAN
BEGIN:VEVENT
DTSTART:20251115T000000Z
DTEND:20251115T020000Z
X-MICROSOFT-CDO-ALLDAYEVENT:FALSE
SUMMARY:Richey Suncoast Theatre Presents "The Play That Goes Wrong" This November – A Side-Splitting Show That Turns Disaster Into Comedy Gold!
DESCRIPTION:Get ready to laugh until it hurts with The Play That Goes Wrong\, the international comedy hit that's part Clue\, part Monty Python\, and all mayhem! \n\nThis Tony Award winning farce follows a well-meaning but disastrously underprepared theatre troupe attempting to stage a classic murder mystery. What could go wrong? Everything.\n\nExpect collapsing scenery\, missed cues\, and hilariously botched lines as the cast scrambles to keep the show going amid total theatrical disaster. Perfect for fans of slapstick\, witty timing\, and nonstop laughter!\n\n \n\nWhy You Should See It:\n\n	Critically acclaimed\, award-winning comedy\n	A must-see for fans of live theatre and physical comedy\n	Perfect for a fun night out with friends or date night\n\n	 \n\n\n\n\nPerformance Details:\n\n\n	What: "The Play That Goes Wrong"\n	When:\n	\n		Friday\, November 14\, 2025 at 7:00- 9:00 PM\n		Saturday\, November 15\, 2025 at 7:00- 9:00 PM\n		Sunday\, November 16\, 2025 at 2:00 -4:00 PM (Matinee)\n		Friday\, November 21\, 2025 at 7:00- 9:00 PM\n		Saturday\, November 22\, 2025 at 7:00 -9:00 PM\n		Sunday\, November 23\, 2025 at 2:00 -4:00 PM (Matinee)\n	\n	\n	Where: Richey Suncoast Theatre   6237 Grand Blvd\, New Port Richey\, FL\, 34652\n	Tickets: $27.50 | VIP $175\n	Ticket Link:  https://ci.ovationtix.com/36105/production/1237162
X-ALT-DESC;FMTTYPE=text/html:<span style="font-family:helvetica"><span style="font-size:9.0pt">Get ready to laugh until it hurts with The Play That Goes Wrong\, the international comedy hit that&#39\;s part Clue\, part Monty Python\, and all mayhem! </span></span><br />\n<span style="font-family:helvetica"><span style="font-size:9.0pt">This Tony Award&ndash\;winning farce follows a well-meaning but disastrously underprepared theatre troupe attempting to stage a classic murder mystery. What could go wrong? Everything.</span></span><br />\n<span style="font-family:helvetica"><span style="font-size:9.0pt">Expect collapsing scenery\, missed cues\, and hilariously botched lines as the cast scrambles to keep the show going amid total theatrical disaster. Perfect for fans of slapstick\, witty timing\, and nonstop laughter!</span></span><br />\n&nbsp\;<br />\n<span style="font-family:helvetica"><span style="font-size:9.0pt">Why You Should See It:</span></span>\n<ul>\n	<li><span style="font-family:helvetica"><span style="font-size:9.0pt">Critically acclaimed\, award-winning comedy</span></span></li>\n	<li><span style="font-family:helvetica"><span style="font-size:9.0pt">A must-see for fans of live theatre and physical comedy</span></span></li>\n	<li><span style="font-family:helvetica"><span style="font-size:9.0pt">Perfect for a fun night out with friends or date night</span></span><br />\n	&nbsp\;</li>\n</ul>\n\n<div style="text-align:center">\n<hr /></div>\n<strong><span style="font-family:helvetica"><span style="font-size:9.0pt">Performance Details:</span></span></strong>\n\n<ul>\n	<li><strong><span style="font-family:helvetica"><span style="font-size:9.0pt">What:</span></span></strong><span style="font-family:helvetica"><span style="font-size:9.0pt"> &quot\;The Play That Goes Wrong&quot\;</span></span></li>\n	<li><strong><span style="font-family:helvetica"><span style="font-size:9.0pt">When:</span></span></strong>\n	<ul>\n		<li><strong><span style="font-family:helvetica"><span style="font-size:9.0pt">Friday\, November 14\, 2025</span></span></strong><span style="font-family:helvetica"><span style="font-size:9.0pt"> at 7:00- 9:00 PM</span></span></li>\n		<li><strong><span style="font-family:helvetica"><span style="font-size:9.0pt">Saturday\, November 15\, 2025</span></span></strong><span style="font-family:helvetica"><span style="font-size:9.0pt"> at 7:00- 9:00 PM</span></span></li>\n		<li><strong><span style="font-family:helvetica"><span style="font-size:9.0pt">Sunday\, November 16\, 2025</span></span></strong><span style="font-family:helvetica"><span style="font-size:9.0pt"> at 2:00 -4:00 PM (Matinee)</span></span></li>\n		<li><strong><span style="font-family:helvetica"><span style="font-size:9.0pt">Friday\, November 21\, 2025</span></span></strong><span style="font-family:helvetica"><span style="font-size:9.0pt"> at 7:00- 9:00 PM</span></span></li>\n		<li><strong><span style="font-family:helvetica"><span style="font-size:9.0pt">Saturday\, November 22\, 2025</span></span></strong><span style="font-family:helvetica"><span style="font-size:9.0pt"> at 7:00 -9:00 PM</span></span></li>\n		<li><strong><span style="font-family:helvetica"><span style="font-size:9.0pt">Sunday\, November 23\, 2025</span></span></strong><span style="font-family:helvetica"><span style="font-size:9.0pt"> at 2:00 -4:00 PM (Matinee)</span></span></li>\n	</ul>\n	</li>\n	<li><strong><span style="font-family:helvetica"><span style="font-size:9.0pt">Where:</span></span></strong><span style="font-family:helvetica"><span style="font-size:9.0pt"> Richey Suncoast Theatre &ndash\; 6237 Grand Blvd\, New Port Richey\, FL\, 34652</span></span></li>\n	<li><strong><span style="font-family:helvetica"><span style="font-size:9.0pt">Tickets:</span></span></strong><span style="font-family:helvetica"><span style="font-size:9.0pt"> $27.50 </span></span><span style="font-family:arial\,sans-serif"><span style="font-size:9.0pt">|</span></span><span style="font-family:helvetica"><span style="font-size:9.0pt"> VIP $175</span></span></li>\n	<li><strong><span style="font-family:helvetica"><span style="font-size:9.0pt">Ticket Link:&nbsp\; </span></span></strong><span style="font-family:helvetica"><span style="font-size:9.0pt">https://ci.ovationtix.com/36105/production/1237162</span></span></li>\n</ul>\n
LOCATION:Where: Richey Suncoast Theatre 6237 Grand Blvd\, New Port Richey\, FL\, 34652
UID:e.3427.16833
SEQUENCE:3
DTSTAMP:20260424T215429Z
URL:https://members.greaterpasco.com/events/details/richey-suncoast-theatre-presents-the-play-that-goes-wrong-this-november-a-side-splitting-show-that-turns-disaster-into-comedy-gold-16833
END:VEVENT

END:VCALENDAR
