BEGIN:VCALENDAR
VERSION:2.0
PRODID:-//ChamberMaster//Event Calendar 2.0//EN
METHOD:PUBLISH
X-PUBLISHED-TTL:P3D
REFRESH-INTERVAL:P3D
CALSCALE:GREGORIAN
BEGIN:VEVENT
DTSTART:20260527T160000Z
DTEND:20260527T180000Z
X-MICROSOFT-CDO-ALLDAYEVENT:FALSE
SUMMARY:Ribbon Cutting: Sunrise Irrigation
DESCRIPTION:Join us as we celebrate the Ribbon Cutting for Sunrise Irrigation    \n\nEnjoy lunch\, connect with fellow professionals\, and take part in a special giveaway as we welcome Sunrise Irrigation to the community.\n\nSunrise Irrigation provides professional irrigation and drainage solutions\, including sprinkler system installation\, repair\, and maintenance services for residential and commercial properties.
X-ALT-DESC;FMTTYPE=text/html:<p data-end="227" data-start="153">Join us as we celebrate the Ribbon Cutting for <strong data-end="222" data-start="200">Sunrise Irrigation</strong> &#9986\;&#65039\;&#127807\;</p>\n\n<p data-end="363" data-start="229"><strong>Enjoy lunch\, connect with fellow professionals\, and take part in a special giveaway as we welcome Sunrise Irrigation to the community.</strong></p>\n\n<p data-end="557" data-start="365">Sunrise Irrigation provides professional irrigation and drainage solutions\, including sprinkler system installation\, repair\, and maintenance services for residential and commercial properties.</p>\n
LOCATION:
UID:e.3427.20160
SEQUENCE:3
DTSTAMP:20260424T204721Z
URL:https://members.greaterpasco.com/events/details/ribbon-cutting-sunrise-irrigation-20160
END:VEVENT

END:VCALENDAR
