BEGIN:VCALENDAR
VERSION:2.0
PRODID:-//ChamberMaster//Event Calendar 2.0//EN
METHOD:PUBLISH
X-PUBLISHED-TTL:P3D
REFRESH-INTERVAL:P3D
CALSCALE:GREGORIAN
BEGIN:VEVENT
DTSTART:20260520T130000Z
DTEND:20260520T150000Z
X-MICROSOFT-CDO-ALLDAYEVENT:FALSE
SUMMARY:Ribbon Cutting: Steps to Recovery
DESCRIPTION:Join us for the Ribbon Cutting for Steps to Recovery    \n\nCome connect\, support\, and help us welcome them to the community as they continue making an impact.\n\nSteps to Recovery provides substance abuse and addiction recovery services\, offering support\, resources\, and guidance for individuals on their journey to long-term recovery.
X-ALT-DESC;FMTTYPE=text/html:<p data-end="153" data-start="92">Join us for the Ribbon Cutting for <strong data-end="148" data-start="127">Steps to Recovery</strong> &#9986\;&#65039\;&#128153\;</p>\n\n<p data-end="254" data-start="155">Come connect\, support\, and help us welcome them to the community as they continue making an impact.</p>\n\n<p data-end="429" data-start="256">Steps to Recovery provides substance abuse and addiction recovery services\, offering support\, resources\, and guidance for individuals on their journey to long-term recovery.</p>\n
LOCATION:5801 Trouble Creek Road New Port Richey\, FL
UID:e.3427.20162
SEQUENCE:3
DTSTAMP:20260424T221918Z
URL:https://members.greaterpasco.com/events/details/ribbon-cutting-steps-to-recovery-20162
END:VEVENT

END:VCALENDAR
