BEGIN:VCALENDAR
VERSION:2.0
PRODID:-//ChamberMaster//Event Calendar 2.0//EN
METHOD:PUBLISH
X-PUBLISHED-TTL:P3D
REFRESH-INTERVAL:P3D
CALSCALE:GREGORIAN
BEGIN:VEVENT
DTSTART:20260420T230000Z
DTEND:20261117T011500Z
X-MICROSOFT-CDO-ALLDAYEVENT:FALSE
SUMMARY:Ham Radio Club Meeting
DESCRIPTION:Zephyrhills Area Amateur Radio Club holds a monthly membership meeting. We talk about the ham radio hobby and events happing in and around "West Central Florida" area. Everyone of any age is invited. W1PB operates two repeaters\, VHF 146.910 -.6 with a CTSS 146.2 UHF 441.425 +5 CTSS 146.2 FM & Fusion
X-ALT-DESC;FMTTYPE=text/html:Zephyrhills Area Amateur Radio Club holds a monthly membership meeting. We talk about the ham radio hobby and events happing in and around &quot\;West Central Florida&quot\; area. Everyone of any age is invited. W1PB operates two repeaters\, VHF 146.910 -.6 with a CTSS 146.2 UHF 441.425 +5 CTSS 146.2 FM &amp\; Fusion
LOCATION:St. Elizabeth's Episcopal Church\, 5855 16th Street\, Zephyrhills FL. Parking in the rear of the building
UID:e.3427.20154
SEQUENCE:3
DTSTAMP:20260424T225147Z
URL:https://members.greaterpasco.com/events/details/ham-radio-club-meeting-20154
END:VEVENT

END:VCALENDAR
