BEGIN:VCALENDAR
VERSION:2.0
PRODID:-//ChamberMaster//Event Calendar 2.0//EN
METHOD:PUBLISH
X-PUBLISHED-TTL:P3D
REFRESH-INTERVAL:P3D
CALSCALE:GREGORIAN
BEGIN:VEVENT
DTSTART:20260516T140000Z
DTEND:20260516T170000Z
X-MICROSOFT-CDO-ALLDAYEVENT:FALSE
SUMMARY:Great American Farmers Market
DESCRIPTION:A free\, family-friendly event featuring local vendors\, educational booths\, agricultural talks\, interactive animal displays\, giveaways\, and a special appearance by miniature Highland cow influencer Jason Moo Moa.
X-ALT-DESC;FMTTYPE=text/html:<span style="caret-color: rgb(0\, 0\, 0)\; color: rgb(0\, 0\, 0)\; font-family: -webkit-standard\; font-size: medium\;">A free\, family-friendly event featuring local vendors\, educational booths\, agricultural talks\, interactive animal displays\, giveaways\, and a special appearance by miniature Highland cow influencer&nbsp\;</span><em data-end="747" data-start="732" style="caret-color: rgb(0\, 0\, 0)\; color: rgb(0\, 0\, 0)\;">Jason Moo Moa</em><span style="caret-color: rgb(0\, 0\, 0)\; color: rgb(0\, 0\, 0)\; font-family: -webkit-standard\; font-size: medium\;">.</span>
LOCATION:Starkey Ranch TLC 12118 Lake Blanche
UID:e.3427.20156
SEQUENCE:3
DTSTAMP:20260421T110304Z
URL:https://members.greaterpasco.com/events/details/great-american-farmers-market-20156
END:VEVENT

END:VCALENDAR
