BEGIN:VCALENDAR
VERSION:2.0
PRODID:-//ChamberMaster//Event Calendar 2.0//EN
METHOD:PUBLISH
X-PUBLISHED-TTL:P3D
REFRESH-INTERVAL:P3D
CALSCALE:GREGORIAN
BEGIN:VEVENT
DTSTART;VALUE=DATE:20260309
DTEND;VALUE=DATE:20260314
TRANSP:TRANSPARENT
X-MICROSOFT-CDO-ALLDAYEVENT:TRUE
SUMMARY:Get Your Free Website and Social Media Image Review - Free to Members
DESCRIPTION:The Greater Pasco Chamber is excited to partner with Outplay Marketing to bring you an exclusive new member benefit! To support your growth\, the Chamber is fully covering the cost of a 16-week marketing program for our members. Space is limited secure your spot today to take advantage of this incredible opportunity!\n\n\nImagery & Aesthetics Snapshot Human beings are visual creatures\, and if the photos on your website or social media are inconsistent\, blurry\, or poorly lit\, it reflects poorly on the quality of your actual services. I want to help you level up your visual game with an Imagery & Aesthetics Snapshot. I will analyze your last five posts or website images and provide professional feedback on how to create a more cohesive\, high-end look that attracts premium\, high-paying clients. I am limiting this to 10 business owners this week to ensure the feedback is detailed and personalized to your specific brand aesthetic. Secure your snapshot now to ensure your business looks as professional as the work you provide.
X-ALT-DESC;FMTTYPE=text/html:<div style="text-align:center"><span style="font-size:16px"><strong>The Greater Pasco Chamber is excited to partner with Outplay Marketing to bring you an exclusive new member benefit! To support your growth\, the Chamber is fully covering the cost of a 16-week marketing program for our members. Space is limited&mdash\;secure your spot today to take advantage of this incredible opportunity!</strong></span></div>\n<br />\n<strong>Imagery &amp\; Aesthetics Snapshot</strong><span style="background-color:transparent\; color:rgb(0\, 0\, 0)\; font-family:arial\,sans-serif\; font-size:11pt"> Human beings are visual creatures\, and if the photos on your website or social media are inconsistent\, blurry\, or poorly lit\, it reflects poorly on the quality of your actual services. I want to help you level up your visual game with an Imagery &amp\; Aesthetics Snapshot. I will analyze your last five posts or website images and provide professional feedback on how to create a more cohesive\, high-end look that attracts premium\, high-paying clients. I am limiting this to </span><strong>10 business owners</strong><span style="background-color:transparent\; color:rgb(0\, 0\, 0)\; font-family:arial\,sans-serif\; font-size:11pt"> this week to ensure the feedback is detailed and personalized to your specific brand aesthetic. Secure your snapshot now to ensure your business looks as professional as the work you provide.</span>
LOCATION:
UID:e.3427.19828
SEQUENCE:3
DTSTAMP:20260425T144542Z
URL:https://members.greaterpasco.com/events/details/get-your-free-website-and-social-media-image-review-free-to-members-19828
END:VEVENT

END:VCALENDAR
