BEGIN:VCALENDAR
VERSION:2.0
PRODID:-//ChamberMaster//Event Calendar 2.0//EN
METHOD:PUBLISH
X-PUBLISHED-TTL:P3D
REFRESH-INTERVAL:P3D
CALSCALE:GREGORIAN
BEGIN:VEVENT
DTSTART:20260523T230000Z
DTEND:20260524T010000Z
X-MICROSOFT-CDO-ALLDAYEVENT:FALSE
SUMMARY:FAME: The Ultimate BOWIE Tribute
DESCRIPTION:This one-night-only symphonic journey celebrates the chameleonic legacy of David Bowie\, from the ethereal echoes of "Space Oddity" to the high-energy anthems of the 80s. \n\n\n\nFeaturing the uncanny vocals and stage presence of Thomas Clay as "Bowie\," the production meticulously recr On Saturday\, May 23\, 2026\, the historic Richey Suncoast Theatre will host a legendary musical odyssey as it proudly presents FAME: The Ultimate BOWIE Tribute eates the most iconic eras of the Starman?s career. Audiences can expect a high-fidelity trek through the early 70s Ziggy Stardust and the Spiders From Mars era\, the soulful sophistication of the Thin White Duke\, and the global pop phenomenon of the 80s\, featuring hits like "Modern Love" and "Let?s Dance". \n\n\n\nThe performance features a powerhouse band of seasoned professionals: \n\n\n\n\n	\n	Thomas Clay (Lead Vocals): A frontman whose journey began at age 3 and whose career spans Broadway and film. \n	\n\n\n\n\n\n	\n	David G. Maki (Saxophone/Vocals): A seasoned musician who brings the essential brass energy to Bowie's catalog. \n	\n\n\n\n\n\n	\n	Mark Skey (Guitar): A professional with 30 years of experience who has recorded with Nirvana producer Steve Albini. \n	\n\n\n\n\n\n	\n	Eric Smith (Keyboards/Bass/Vocals): A versatile composer and multi-instrumentalist. \n	\n\n\n\n\n\n	\n	Zach Phillips (Drums): An experienced percussionist with ten studio albums to his credit. \n	\n\n\n\n\n\n	\n	JD (Backup Vocals): An opera-trained vocalist who performs a stunning duet on "Under Pressure". \n	\n\n\n\n\n"Wow\, just close your eyes and you think you?re hearing the real thing\," raved one fan from Tampa. Another noted\, "A tribute or no tribute\, one of the best bands I've seen in years".
X-ALT-DESC;FMTTYPE=text/html:<div>\n<p><span style="background-color:rgb(255\, 255\, 0)\; font-family:helvetica\,helvetica_embeddedfont\,helvetica_msfontservice\,sans-serif\; font-size:9pt">This one-night-only symphonic journey celebrates the chameleonic legacy of David Bowie\, from the ethereal echoes of "Space Oddity" to the high-energy anthems of the 80s.</span><span style="font-family:helvetica\,helvetica_embeddedfont\,helvetica_msfontservice\,sans-serif\; font-size:9pt">&nbsp\;</span></p>\n</div>\n\n<div>\n<p><span style="background-color:rgb(255\, 255\, 0)\; font-family:helvetica\,helvetica_embeddedfont\,helvetica_msfontservice\,sans-serif\; font-size:9pt">Featuring the uncanny vocals and stage presence of&nbsp\;</span><strong>Thomas Clay</strong><span style="background-color:rgb(255\, 255\, 0)\; font-family:helvetica\,helvetica_embeddedfont\,helvetica_msfontservice\,sans-serif\; font-size:9pt">&nbsp\;as "Bowie\," the production meticulously&nbsp\;recr&nbsp\;On&nbsp\;</span><strong>Saturday\, May 23\, 2026</strong><span style="background-color:rgb(255\, 255\, 0)\; font-family:helvetica\,helvetica_embeddedfont\,helvetica_msfontservice\,sans-serif\; font-size:9pt">\, the historic&nbsp\;</span><strong>Richey Suncoast Theatre</strong><span style="background-color:rgb(255\, 255\, 0)\; font-family:helvetica\,helvetica_embeddedfont\,helvetica_msfontservice\,sans-serif\; font-size:9pt">&nbsp\;will host a legendary musical odyssey as it proudly presents&nbsp\;</span><strong>FAME: The Ultimate BOWIE Tribute</strong><span style="background-color:rgb(255\, 255\, 0)\; font-family:helvetica\,helvetica_embeddedfont\,helvetica_msfontservice\,sans-serif\; font-size:9pt">&nbsp\;eates&nbsp\;the most iconic eras of&nbsp\;the Starman?s&nbsp\;career. Audiences can expect a high-fidelity trek through the early 70s&nbsp\;</span><strong>Ziggy Stardust and the Spiders&nbsp\;From&nbsp\;Mars</strong><span style="background-color:rgb(255\, 255\, 0)\; font-family:helvetica\,helvetica_embeddedfont\,helvetica_msfontservice\,sans-serif\; font-size:9pt">&nbsp\;era\, the soulful sophistication of the&nbsp\;</span><strong>Thin White Duke</strong><span style="background-color:rgb(255\, 255\, 0)\; font-family:helvetica\,helvetica_embeddedfont\,helvetica_msfontservice\,sans-serif\; font-size:9pt">\, and the global pop phenomenon of the 80s\, featuring hits like "Modern Love" and "Let?s Dance".</span><span style="background-color:rgba(209\, 209\, 209\, 0.5)\; font-family:helvetica\,helvetica_embeddedfont\,helvetica_msfontservice\,sans-serif\; font-size:9pt">&nbsp\;</span></p>\n</div>\n\n<div>\n<p><span style="background-color:rgb(255\, 255\, 0)\; font-family:helvetica\,helvetica_embeddedfont\,helvetica_msfontservice\,sans-serif\; font-size:9pt">The performance features a powerhouse band of seasoned professionals:</span><span style="font-family:helvetica\,helvetica_embeddedfont\,helvetica_msfontservice\,sans-serif\; font-size:9pt">&nbsp\;</span></p>\n</div>\n\n<div>\n<ul>\n	<li>\n	<p><strong>Thomas Clay (Lead Vocals):</strong><span style="background-color:rgb(255\, 255\, 0)\; font-family:helvetica\,helvetica_embeddedfont\,helvetica_msfontservice\,sans-serif\; font-size:9pt">&nbsp\;A frontman&nbsp\;whose journey began at age 3 and whose career spans Broadway and film.</span><span style="font-family:helvetica\,helvetica_embeddedfont\,helvetica_msfontservice\,sans-serif\; font-size:9pt">&nbsp\;</span></p>\n	</li>\n</ul>\n</div>\n\n<div>\n<ul>\n	<li>\n	<p><strong>David G. Maki (Saxophone/Vocals):</strong><span style="background-color:rgb(255\, 255\, 0)\; font-family:helvetica\,helvetica_embeddedfont\,helvetica_msfontservice\,sans-serif\; font-size:9pt">&nbsp\;A seasoned musician who brings the essential brass energy to Bowie's catalog.</span><span style="font-family:helvetica\,helvetica_embeddedfont\,helvetica_msfontservice\,sans-serif\; font-size:9pt">&nbsp\;</span></p>\n	</li>\n</ul>\n</div>\n\n<div>\n<ul>\n	<li>\n	<p><strong>Mark Skey (Guitar):</strong><span style="background-color:rgb(255\, 255\, 0)\; font-family:helvetica\,helvetica_embeddedfont\,helvetica_msfontservice\,sans-serif\; font-size:9pt">&nbsp\;A professional with 30 years of experience&nbsp\;who has recorded&nbsp\;with Nirvana producer Steve Albini.</span><span style="font-family:helvetica\,helvetica_embeddedfont\,helvetica_msfontservice\,sans-serif\; font-size:9pt">&nbsp\;</span></p>\n	</li>\n</ul>\n</div>\n\n<div>\n<ul>\n	<li>\n	<p><strong>Eric Smith (Keyboards/Bass/Vocals):</strong><span style="background-color:rgb(255\, 255\, 0)\; font-family:helvetica\,helvetica_embeddedfont\,helvetica_msfontservice\,sans-serif\; font-size:9pt">&nbsp\;A versatile composer and multi-instrumentalist.</span><span style="font-family:helvetica\,helvetica_embeddedfont\,helvetica_msfontservice\,sans-serif\; font-size:9pt">&nbsp\;</span></p>\n	</li>\n</ul>\n</div>\n\n<div>\n<ul>\n	<li>\n	<p><strong>Zach Phillips (Drums):</strong><span style="background-color:rgb(255\, 255\, 0)\; font-family:helvetica\,helvetica_embeddedfont\,helvetica_msfontservice\,sans-serif\; font-size:9pt">&nbsp\;An experienced percussionist with ten studio albums to his credit.</span><span style="font-family:helvetica\,helvetica_embeddedfont\,helvetica_msfontservice\,sans-serif\; font-size:9pt">&nbsp\;</span></p>\n	</li>\n</ul>\n</div>\n\n<div>\n<ul>\n	<li>\n	<p><strong>JD (Backup Vocals):</strong><span style="background-color:rgb(255\, 255\, 0)\; font-family:helvetica\,helvetica_embeddedfont\,helvetica_msfontservice\,sans-serif\; font-size:9pt">&nbsp\;An opera-trained vocalist who performs a stunning duet on "Under Pressure".</span><span style="font-family:helvetica\,helvetica_embeddedfont\,helvetica_msfontservice\,sans-serif\; font-size:9pt">&nbsp\;</span></p>\n	</li>\n</ul>\n</div>\n\n<div>\n<p><span style="background-color:rgb(255\, 255\, 0)\; font-family:helvetica\,helvetica_embeddedfont\,helvetica_msfontservice\,sans-serif\; font-size:9pt">"Wow\, just close your eyes and you think you?re hearing the real thing\," raved one fan from Tampa. Another noted\, "A tribute or no tribute\, one of the best bands I've seen in years".</span></p>\n</div>\n
LOCATION:Richey Suncoast Theatre\, 6237 Grand Boulevard\, New Port Richey\, FL
UID:e.3427.20155
SEQUENCE:3
DTSTAMP:20260421T094145Z
URL:https://members.greaterpasco.com/events/details/fame-the-ultimate-bowie-tribute-20155
END:VEVENT

END:VCALENDAR
