BEGIN:VCALENDAR
VERSION:2.0
PRODID:-//ChamberMaster//Event Calendar 2.0//EN
METHOD:PUBLISH
X-PUBLISHED-TTL:P3D
REFRESH-INTERVAL:P3D
CALSCALE:GREGORIAN
BEGIN:VEVENT
DTSTART:20191102T213000Z
DTEND:20191103T030000Z
X-MICROSOFT-CDO-ALLDAYEVENT:FALSE
SUMMARY:Casino Night - Casino Royale
DESCRIPTION:Come join us for a fun filled evening.  Doors open at 5:30 PM  : 6:15 PM the gaming begins\n\n\n\nTickets are $35 each and include $500 in casino cash \n\n\n\nTICKETS ON SALE NOW\n\nTickets are available on Eventbrite.com at https://www.eventbrite.com/e/casino-night-casino-royale-tickets-51890485840 or by calling Rosemarie at 727-946-7504 or stopping by TampaBay Legal Document Services at 5623 US Highway 19 Suite 301 New Port Richey...\n\n\n\nEvent is hosted by TampaBay Legal Services\, will be run by Events by Rosemarie and will be held at St Ann Catholic Church 7120 Massachusetts Avenue New Port Richey\n\n\n\nSponsors wanted for this event.  Please contact Rosemarie is you would like to be a table sponsor.
X-ALT-DESC;FMTTYPE=text/html:Come join us for a fun filled evening.&nbsp\; Doors open at 5:30 PM&nbsp\; : 6:15 PM the gaming begins<br />\n<br />\nTickets are $35 each and include $500 in casino cash&nbsp\;<br />\n<br />\n<strong>TICKETS ON SALE NOW</strong><br />\nTickets are available on Eventbrite.com at <a href="https://www.eventbrite.com/e/casino-night-casino-royale-tickets-51890485840">https://www.eventbrite.com/e/casino-night-casino-royale-tickets-51890485840</a>&nbsp\;or by calling Rosemarie at 727-946-7504 or stopping by TampaBay Legal Document Services at 5623 US Highway 19 Suite 301 New Port Richey...<br />\n<br />\nEvent is hosted by TampaBay Legal Services\, will be run by Events by Rosemarie and will be held at St Ann Catholic Church 7120 Massachusetts Avenue New Port Richey<br />\n<br />\nSponsors wanted for this event.&nbsp\; Please contact Rosemarie is you would like to be a table sponsor.
LOCATION:7120 Massachusetts Avenue New Port Richey FL 34653
UID:e.3427.49
SEQUENCE:3
DTSTAMP:20260419T130946Z
URL:https://members.greaterpasco.com/events/details/casino-night-casino-royale-11-02-2019-49
END:VEVENT

END:VCALENDAR
