BEGIN:VCALENDAR
VERSION:2.0
PRODID:-//ChamberMaster//Event Calendar 2.0//EN
METHOD:PUBLISH
X-PUBLISHED-TTL:P3D
REFRESH-INTERVAL:P3D
CALSCALE:GREGORIAN
BEGIN:VEVENT
DTSTART:20260627T180000Z
DTEND:20260628T180000Z
X-MICROSOFT-CDO-ALLDAYEVENT:FALSE
SUMMARY:Amateur Radio Field Day
DESCRIPTION:The Gulf Coast Amateur Radio Club will be hosting their annual Field Day event. Field Day is ham radio's open house. Every June\, more than 31\,000 hams throughout North America set up temporary transmitting stations in public places to demonstrate ham radio's science\, skill and service to our communities and our nation. It combines public service\, emergency preparedness\, community outreach\, and technical skills all in a single event. Field Day has been an annual event since 1933\, and remains the most popular event in ham radio.
X-ALT-DESC;FMTTYPE=text/html:The Gulf Coast Amateur Radio Club will be hosting their annual Field Day event. Field Day is ham radio&#39\;s open house. Every June\, more than 31\,000 hams throughout North America set up temporary transmitting stations in public places to demonstrate ham radio&#39\;s science\, skill and service to our communities and our nation. It combines public service\, emergency preparedness\, community outreach\, and technical skills all in a single event. Field Day has been an annual event since 1933\, and remains the most popular event in ham radio.
LOCATION:Millennium Academy 10005 Ridge Road New Port Richey\, FL 34654
UID:e.3427.20151
SEQUENCE:3
DTSTAMP:20260422T072531Z
URL:https://members.greaterpasco.com/events/details/amateur-radio-field-day-20151
END:VEVENT

END:VCALENDAR
