BEGIN:VCALENDAR
VERSION:2.0
PRODID:-//ChamberMaster//Event Calendar 2.0//EN
METHOD:PUBLISH
X-PUBLISHED-TTL:P3D
REFRESH-INTERVAL:P3D
CALSCALE:GREGORIAN
BEGIN:VEVENT
DTSTART:20260314T210000Z
DTEND:20260314T230000Z
X-MICROSOFT-CDO-ALLDAYEVENT:FALSE
SUMMARY:Absolute Queen – A Mind-Blowing Tribute to Rock Legends
DESCRIPTION:Richey Suncoast Theatre is proud to present Absolute Queen\, the internationally acclaimed Queen tribute band\, for two unforgettable performances on Saturday\, March 14\, 2026 at 5:00 PM and 8:00 PM.\n\nMore than a tribute\, Absolute Queen delivers a note-for-note live experience packed with all the drama\, energy\, and magic of a real Queen concert. From soaring vocals and layered harmonies to iconic guitar solos and full-stage production\, this show brings Freddie Mercury and Queen's legendary music back to life.\n\nFrontman Martyn\, hailing from Wales\, UK\, has toured throughout Europe and performed at official Queen International Fan Club events. He's even shared the stage with Queen's own Brian May and Roger Taylor\, adding authenticity and heart to every performance.\n\nAudiences will experience the entire Bohemian Rhapsody movie soundtrack performed live\, along with Queen's most beloved anthems such as We Are the Champions\, Radio Ga Ga\, and Don't Stop Me Now. Whether you're a lifelong fan or newly obsessed thanks to the Oscar-winning film\, this is the Queen experience you've been waiting for.\n\nSHOW DETAILS:\n\n	Event:  Absolute Queen   A Mind-Blowing Tribute to Rock Legends\n	Date:  Saturday\, March 14\, 2026\n	Showtime:  5:00 PM and 8:00 PM\n	Venue:  Richey Suncoast Theatre\n	Location: 6237 Grand Boulevard\, New Port Richey\, 34652\n	Tickets:  5:00 PM - $35-$40 | $250 VIP Box  \n	8:00 PM - $40-$45 | $350 VIP Box
X-ALT-DESC;FMTTYPE=text/html:<span style="color:black">Richey Suncoast Theatre is proud to present&nbsp\;<strong>Absolute Queen</strong>\, the internationally acclaimed Queen tribute band\, for two unforgettable performances on&nbsp\;<strong>Saturday\, March 14\, 2026</strong>&nbsp\;at&nbsp\;<strong>5:00 PM and 8:00 PM</strong>.</span><br />\n<span style="color:black">More than a tribute\,&nbsp\;<strong>Absolute Queen</strong>&nbsp\;delivers a note-for-note live experience packed with all the drama\, energy\, and magic of a real Queen concert. From soaring vocals and layered harmonies to iconic guitar solos and full-stage production\, this show brings Freddie Mercury and Queen&#39\;s legendary music back to life.</span><br />\n<span style="color:black">Frontman&nbsp\;<strong>Martyn</strong>\, hailing from Wales\, UK\, has toured throughout Europe and performed at official Queen International Fan Club events. He&rsquo\;s even shared the stage with Queen&rsquo\;s own&nbsp\;<strong>Brian May</strong>&nbsp\;and&nbsp\;<strong>Roger Taylor</strong>\, adding authenticity and heart to every performance.</span><br />\n<span style="color:black">Audiences will experience the entire&nbsp\;<em>Bohemian Rhapsody</em>&nbsp\;movie soundtrack performed live\, along with Queen&#39\;s most beloved anthems such as&nbsp\;<em>We Are the Champions</em>\,&nbsp\;<em>Radio Ga Ga</em>\, and&nbsp\;<em>Don&rsquo\;t Stop Me Now</em>. Whether you&rsquo\;re a lifelong fan or newly obsessed thanks to the Oscar-winning film\, this is the Queen experience you&rsquo\;ve been waiting for.</span><br />\n<strong>SHOW DETAILS:</strong>\n<ul>\n	<li><strong>Event:&nbsp\; Absolute Queen &ndash\; A Mind-Blowing Tribute to Rock Legends</strong></li>\n	<li><strong>Date:&nbsp\; Saturday\, March 14\, 2026</strong></li>\n	<li><strong>Showtime:&nbsp\; 5:00 PM and 8:00 PM</strong></li>\n	<li><strong>Venue:&nbsp\; Richey Suncoast Theatre</strong></li>\n	<li><strong>Location:&nbsp\;6237 Grand Boulevard\, New Port Richey\, 34652</strong></li>\n	<li><strong>Tickets:&nbsp\; 5:00 PM - $35-$40 | $250 VIP Box&nbsp\; </strong></li>\n	<li>8:00 PM - $40-$45 | $350 VIP Box</li>\n</ul>\n
LOCATION:Venue: Richey Suncoast Theatre Location: 6237 Grand Boulevard\, New Port Richey\, 34652
UID:e.3427.16854
SEQUENCE:3
DTSTAMP:20260422T114545Z
URL:https://members.greaterpasco.com/events/details/absolute-queen-a-mind-blowing-tribute-to-rock-legends-16854
END:VEVENT

END:VCALENDAR
