BEGIN:VCALENDAR
VERSION:2.0
PRODID:-//ChamberMaster//Event Calendar 2.0//EN
METHOD:PUBLISH
X-PUBLISHED-TTL:P3D
REFRESH-INTERVAL:P3D
CALSCALE:GREGORIAN
BEGIN:VEVENT
DTSTART:20260131T230000Z
DTEND:20260201T030000Z
X-MICROSOFT-CDO-ALLDAYEVENT:FALSE
SUMMARY:60th Anniversary Celebration Beacon Square Civic Association BSCA
DESCRIPTION:Come join Beacon Square Civic Association at their 60th Anniversary Celebration! BSCA has been serving the community by offering memberships to the club\, hosting the Scouts\, a voting station\, hosting many charity events\, and providing beautiful hall rental space for birthday parties\, anniversary parties\, quinceaneras\, bridal and baby showers plus vendor shows\, weekly music events\, and so much more. BSCA has been a pillar in our community for 60 years\, come help us celebrate this big milestone!
X-ALT-DESC;FMTTYPE=text/html:Come join Beacon Square Civic Association at their 60th Anniversary Celebration! BSCA has been serving the community by offering memberships to the club\, hosting the Scouts\, a voting station\, hosting many charity events\, and providing beautiful hall rental space for birthday parties\, anniversary parties\, quinceaneras\, bridal and baby showers plus vendor shows\, weekly music events\, and so much more. BSCA has been a pillar in our community for 60 years\, come help us celebrate this big milestone!
LOCATION:Beacon Square Civic Association 3741 Bradford Dr Holiday\, FL 34691
UID:e.3427.19896
SEQUENCE:3
DTSTAMP:20260422T114444Z
URL:https://members.greaterpasco.com/events/details/60th-anniversary-celebration-beacon-square-civic-association-bsca-19896
END:VEVENT

END:VCALENDAR
